BEGIN:VCALENDAR
VERSION:2.0
PRODID:Imitheme.com 
BEGIN:VEVENT
UID:20260419T2120481867662473
DTSTAMP;TZID=UTC:2026-04-19 21:20:48
DTSTART;TZID=America/Los_Angeles:20260419T212048
DTEND;TZID=America/Los_Angeles:20260419T212048
SUMMARY:Easter Egg 2025
LOCATION:
DESCRIPTION:EASTER EGG HUNT 2025 April 20, 2025 2:00pm-5:00pm Multi-Purpose Covered Court, 40 Solar street. Bel-air Village Makati City -First 500 Registrants are entitled to the Easter tickets stub- -Walk-ins are Welcome- -Open to the children 12 years old and below- INSTRUCTIONS - Pre Registrations online through this link starting April 2 (Wednesday) 9AM. - Once registered, you may claim your Ticket Stubs from April 9 (Wednesday) to April 11 (Friday). Unclaimed Ticket Stubs beyond April 11 will be forfeited. - You may claim your Ticket stubs at the following locations from 9AM to 12PM: Bel-Air Village - Barangay Hall                      9AM-4PM            Look for Azon, Aileen, EJ, Cathy Salcedo Village - Jaime Velasquez Park Gazebo                      9AM-12PM            Look for Dennis or Nina 4. Waitlist will only be open once the website registration is full. People who wish to be on the waitlist may proceed to the Barangay Hall and register in person until April 11(Friday) 4PM. 5. There will be no claiming of Easter Egg Ticket Stubs on the event itself. 6. Unclaimed Tickets will be given to the registered waitlist on April 14 (Monday) in the barangay office from 9AM-4PM.
URL:https://barangaybelair.ph/event/easter-egg-2025/
END:VEVENT
END:VCALENDAR
