BEGIN:VCALENDAR
VERSION:2.0
PRODID:Imitheme.com 
BEGIN:VEVENT
UID:20260420T0044001762064376
DTSTAMP;TZID=UTC:2026-04-20 00:44:00
DTSTART;TZID=America/Los_Angeles:20260420T004400
DTEND;TZID=America/Los_Angeles:20260420T004400
SUMMARY:SALCEDO ONE STOP SHOP
LOCATION:
DESCRIPTION:🚨One Stop Shop!🚨 📆 May 8, 2025 (Thursday) ⏱️ 9:00 AM - 3:00 PM 📍 Jaime Velasquez Park
URL:https://barangaybelair.ph/event/one-stop-shop-salcedo/
END:VEVENT
END:VCALENDAR
