BEGIN:VCALENDAR
VERSION:2.0
PRODID:Imitheme.com 
BEGIN:VEVENT
UID:20260419T2138211456910996
DTSTAMP;TZID=UTC:2026-04-19 21:38:21
DTSTART;TZID=America/Los_Angeles:20260419T213821
DTEND;TZID=America/Los_Angeles:20260419T213821
SUMMARY:SUMMER PICKLEBALL CLINIC
LOCATION:
DESCRIPTION:From July 7-Aug 30, 2025 Every Saturday, 10AM-12NN Sign-up here: bit.ly/SKPickleball2025
URL:https://barangaybelair.ph/event/summer-pickleball-clinic/
END:VEVENT
END:VCALENDAR
