BEGIN:VCALENDAR
VERSION:2.0
PRODID:Imitheme.com 
BEGIN:VEVENT
UID:20260420T0111122004707743
DTSTAMP;TZID=UTC:2026-04-20 01:11:12
DTSTART;TZID=America/Los_Angeles:20260420T011112
DTEND;TZID=America/Los_Angeles:20260420T011112
SUMMARY:SUMMER BASKETBALL CLINIC
LOCATION:
DESCRIPTION:From July 7-30, 2025 Every Monday & Wednesday, 5-7PM SIGN UP HERE: bit.ly/SKBasketball2025
URL:https://barangaybelair.ph/event/summer-volleyball-clinic-7/
END:VEVENT
END:VCALENDAR
