BEGIN:VCALENDAR
VERSION:2.0
PRODID:Imitheme.com 
BEGIN:VEVENT
UID:20260421T142441505934136
DTSTAMP;TZID=UTC:2026-04-21 14:24:41
DTSTART;TZID=America/Los_Angeles:20260421T142441
DTEND;TZID=America/Los_Angeles:20260421T142441
SUMMARY:Bel-Air Pottery and Rug Tufting with Bumi &amp; Ashe
LOCATION:
DESCRIPTION:
URL:https://barangaybelair.ph/event/bel-air-pottery-and-rug-tufting-with-bumi-ashe/
END:VEVENT
END:VCALENDAR
