BEGIN:VCALENDAR
VERSION:2.0
PRODID:Imitheme.com 
BEGIN:VEVENT
UID:20260421T181219972266990
DTSTAMP;TZID=UTC:2026-04-21 18:12:19
DTSTART;TZID=America/Los_Angeles:20260421T181219
DTEND;TZID=America/Los_Angeles:20260421T181219
SUMMARY:Flea Market
LOCATION:Hydra Street Bel-Air Village\, Makati City 1209 Philippines
DESCRIPTION:October Hidden Treasure
URL:https://barangaybelair.ph/event/flea-market/
END:VEVENT
END:VCALENDAR
