BEGIN:VCALENDAR
VERSION:2.0
PRODID:Imitheme.com 
BEGIN:VEVENT
UID:20260421T050558862162838
DTSTAMP;TZID=UTC:2026-04-21 05:05:58
DTSTART;TZID=America/Los_Angeles:20260421T050558
DTEND;TZID=America/Los_Angeles:20260421T050558
SUMMARY:Anti-Dengue Fumigation (Phase 2)
LOCATION:
DESCRIPTION:
URL:https://barangaybelair.ph/event/anti-dengue-fumigation-phase-2-6/
END:VEVENT
END:VCALENDAR
