BEGIN:VCALENDAR
VERSION:2.0
PRODID:Imitheme.com 
BEGIN:VEVENT
UID:20260421T0119471876054647
DTSTAMP;TZID=UTC:2026-04-21 01:19:47
DTSTART;TZID=America/Los_Angeles:20260421T011947
DTEND;TZID=America/Los_Angeles:20260421T011947
SUMMARY:Anti-Dengue Fumigation (Phase 2)
LOCATION:
DESCRIPTION:
URL:https://barangaybelair.ph/event/anti-dengue-fumigation-phase-2-8/
END:VEVENT
END:VCALENDAR
