BEGIN:VCALENDAR
VERSION:2.0
PRODID:Imitheme.com 
BEGIN:VEVENT
UID:20260420T160755969794148
DTSTAMP;TZID=UTC:2026-04-20 16:07:55
DTSTART;TZID=America/Los_Angeles:20260420T160755
DTEND;TZID=America/Los_Angeles:20260420T160755
SUMMARY:Anti-Dengue Fumigation (Phase 4)
LOCATION:
DESCRIPTION:
URL:https://barangaybelair.ph/event/anti-dengue-fumigation-phase-4-4/
END:VEVENT
END:VCALENDAR
