BEGIN:VCALENDAR
VERSION:2.0
PRODID:Imitheme.com 
BEGIN:VEVENT
UID:20260421T1929261324688728
DTSTAMP;TZID=UTC:2026-04-21 19:29:26
DTSTART;TZID=America/Los_Angeles:20260421T192926
DTEND;TZID=America/Los_Angeles:20260421T192926
SUMMARY:Bel-Air Festive Finds
LOCATION:
DESCRIPTION:Grand Bazaar
URL:https://barangaybelair.ph/event/bel-air-festive-finds/
END:VEVENT
END:VCALENDAR
