BEGIN:VCALENDAR
VERSION:2.0
PRODID:Imitheme.com 
BEGIN:VEVENT
UID:20260420T1559531154101124
DTSTAMP;TZID=UTC:2026-04-20 15:59:53
DTSTART;TZID=America/Los_Angeles:20260420T155953
DTEND;TZID=America/Los_Angeles:20260420T155953
SUMMARY:Anti-Dengue Fumigation (Phase 4)
LOCATION:
DESCRIPTION:
URL:https://barangaybelair.ph/event/anti-dengue-fumigation-phase-4-5/
END:VEVENT
END:VCALENDAR
