BEGIN:VCALENDAR
VERSION:2.0
PRODID:Imitheme.com 
BEGIN:VEVENT
UID:20260421T173502763523286
DTSTAMP;TZID=UTC:2026-04-21 17:35:02
DTSTART;TZID=America/Los_Angeles:20260421T173502
DTEND;TZID=America/Los_Angeles:20260421T173502
SUMMARY:Bel-Air Festive Finds
LOCATION:Hydra Street Bel-Air Village\, Makati City 1209 Philippines
DESCRIPTION:Grand Bazaar
URL:https://barangaybelair.ph/event/bel-air-festive-finds-2/
END:VEVENT
END:VCALENDAR
