BEGIN:VCALENDAR
VERSION:2.0
PRODID:Imitheme.com 
BEGIN:VEVENT
UID:20260420T1216381662920817
DTSTAMP;TZID=UTC:2026-04-20 12:16:38
DTSTART;TZID=America/Los_Angeles:20260420T121638
DTEND;TZID=America/Los_Angeles:20260420T121638
SUMMARY:Anti-Dengue Fumigation (Phase 4)
LOCATION:
DESCRIPTION:
URL:https://barangaybelair.ph/event/anti-dengue-fumigation-phase-4-6/
END:VEVENT
END:VCALENDAR
