BEGIN:VCALENDAR
VERSION:2.0
PRODID:Imitheme.com 
BEGIN:VEVENT
UID:20260420T102723601007202
DTSTAMP;TZID=UTC:2026-04-20 10:27:23
DTSTART;TZID=America/Los_Angeles:20260420T102723
DTEND;TZID=America/Los_Angeles:20260420T102723
SUMMARY:Anti-Dengue Fumigation (Phase 4)
LOCATION:
DESCRIPTION:
URL:https://barangaybelair.ph/event/anti-dengue-fumigation-phase-4-7/
END:VEVENT
END:VCALENDAR
