BEGIN:VCALENDAR
VERSION:2.0
PRODID:Imitheme.com 
BEGIN:VEVENT
UID:20260420T2325131759751478
DTSTAMP;TZID=UTC:2026-04-20 23:25:13
DTSTART;TZID=America/Los_Angeles:20260420T232513
DTEND;TZID=America/Los_Angeles:20260420T232513
SUMMARY:Anti-Dengue Fumigation (Phase 3)
LOCATION:
DESCRIPTION:
URL:https://barangaybelair.ph/event/anti-dengue-fumigation-phase-3-6/
END:VEVENT
END:VCALENDAR
