BEGIN:VCALENDAR
VERSION:2.0
PRODID:Imitheme.com 
BEGIN:VEVENT
UID:20260420T194906407631202
DTSTAMP;TZID=UTC:2026-04-20 19:49:06
DTSTART;TZID=America/Los_Angeles:20260420T194906
DTEND;TZID=America/Los_Angeles:20260420T194906
SUMMARY:Anti-Dengue Fumigation (Phase 3)
LOCATION:
DESCRIPTION:
URL:https://barangaybelair.ph/event/anti-dengue-fumigation-phase-3-8/
END:VEVENT
END:VCALENDAR
