BEGIN:VCALENDAR
VERSION:2.0
PRODID:Imitheme.com 
BEGIN:VEVENT
UID:20260421T1232071183338297
DTSTAMP;TZID=UTC:2026-04-21 12:32:07
DTSTART;TZID=America/Los_Angeles:20260421T123207
DTEND;TZID=America/Los_Angeles:20260421T123207
SUMMARY:Salcedo Onestop Services
LOCATION:
DESCRIPTION:🌟 One-Stop Services in Salcedo! 🌟 Mark your calendars! 📅 On November 13, 2025, from 9:00 AM to 3:00 PM, join us at Jaime Velasquez Park, Salcedo Makati City for a convenient day of essential services in one place: SSS: Membership, Loans, Benefits, Claims Pag-IBIG: Registration, MP2, Loans, and more PhilHealth: Record updates, ID printing, and enrollment PSA: Birth/Marriage/Death Certificates,CENOMAR Makati Services: PWD, Yellow Card, and more Don’t miss out—this is your chance to get everything done in one stop!
URL:https://barangaybelair.ph/event/salcedo-onestop-services-2/
END:VEVENT
END:VCALENDAR
