BEGIN:VCALENDAR
VERSION:2.0
PRODID:Imitheme.com 
BEGIN:VEVENT
UID:20260420T1944311354613143
DTSTAMP;TZID=UTC:2026-04-20 19:44:31
DTSTART;TZID=America/Los_Angeles:20260420T194431
DTEND;TZID=America/Los_Angeles:20260420T194431
SUMMARY:Anti-Dengue Fumigation (Phase 3)
LOCATION:
DESCRIPTION:
URL:https://barangaybelair.ph/event/anti-dengue-fumigation-phase-3-9/
END:VEVENT
END:VCALENDAR
