BEGIN:VCALENDAR
VERSION:2.0
PRODID:Imitheme.com 
BEGIN:VEVENT
UID:20260420T045842439565849
DTSTAMP;TZID=UTC:2026-04-20 04:58:42
DTSTART;TZID=America/Los_Angeles:20260420T045842
DTEND;TZID=America/Los_Angeles:20260420T045842
SUMMARY:Anti-Dengue Fumigation (Salcedo Village)
LOCATION:
DESCRIPTION:
URL:https://barangaybelair.ph/event/anti-dengue-fumigation-salcedo-village-3/
END:VEVENT
END:VCALENDAR
