BEGIN:VCALENDAR
VERSION:2.0
PRODID:Imitheme.com 
BEGIN:VEVENT
UID:20260420T070223839540426
DTSTAMP;TZID=UTC:2026-04-20 07:02:23
DTSTART;TZID=America/Los_Angeles:20260420T070223
DTEND;TZID=America/Los_Angeles:20260420T070223
SUMMARY:Anti-Dengue Fumigation (Malugay Area)
LOCATION:
DESCRIPTION:
URL:https://barangaybelair.ph/event/anti-dengue-fumigation-malugay-area-3/
END:VEVENT
END:VCALENDAR
