BEGIN:VCALENDAR
VERSION:2.0
PRODID:Imitheme.com 
BEGIN:VEVENT
UID:20260420T0252351571081534
DTSTAMP;TZID=UTC:2026-04-20 02:52:35
DTSTART;TZID=America/Los_Angeles:20260420T025235
DTEND;TZID=America/Los_Angeles:20260420T025235
SUMMARY:LTO on Wheels
LOCATION:
DESCRIPTION:
URL:https://barangaybelair.ph/event/lto-nn-wheels/
END:VEVENT
END:VCALENDAR
