BEGIN:VCALENDAR
VERSION:2.0
PRODID:Imitheme.com 
BEGIN:VEVENT
UID:20260420T010543605029005
DTSTAMP;TZID=UTC:2026-04-20 01:05:43
DTSTART;TZID=America/Los_Angeles:20260420T010543
DTEND;TZID=America/Los_Angeles:20260420T010543
SUMMARY:Bel-Air One Stop Shop
LOCATION:
DESCRIPTION:🌟 One-Stop Services in Bel-Air! 🌟 On December 1, 2025, from 9:00 AM to 3:00 PM, join us at Bava Function Rooms, Bel-Air Makati City for a convenient day of essential services in one place: SSS: Membership, Loans, Benefits, Claims Pag-IBIG: Registration, MP2, Loans, and more PhilHealth: Record updates, ID printing, and enrollment PSA: Birth/Marriage/Death Certificates,CENOMAR Makati Services: PWD, Yellow Card, and more Don’t miss out—this is your chance to get everything done in one stop!
URL:https://barangaybelair.ph/event/bel-air-one-stop-shop-9/
END:VEVENT
END:VCALENDAR
