BEGIN:VCALENDAR
VERSION:2.0
PRODID:Imitheme.com 
BEGIN:VEVENT
UID:20260419T2327331344012789
DTSTAMP;TZID=UTC:2026-04-19 23:27:33
DTSTART;TZID=America/Los_Angeles:20260419T232733
DTEND;TZID=America/Los_Angeles:20260419T232733
SUMMARY:Salcedo One Stop Shop
LOCATION:
DESCRIPTION:🌟 One-Stop Services in Bel-Air! 🌟 Mark your calendars! 📅 On December 11, 2025, from 9:00 AM to 3:00 PM, join us at Jaime Velasquez Park, Salcedo Makati City for a convenient day of essential services in one place: SSS: Membership, Loans, Benefits, Claims Pag-IBIG: Registration, MP2, Loans, and more PhilHealth: Record updates, ID printing, and enrollment PSA: Birth/Marriage/Death Certificates,CENOMAR Makati Services: PWD, Yellow Card, and more Don’t miss out—this is your chance to get everything done in one stop!
URL:https://barangaybelair.ph/event/salcedo-one-stop-shop-6/
END:VEVENT
END:VCALENDAR
