BEGIN:VCALENDAR
VERSION:2.0
PRODID:Imitheme.com 
BEGIN:VEVENT
UID:20260419T21431886925508
DTSTAMP;TZID=UTC:2026-04-19 21:43:18
DTSTART;TZID=America/Los_Angeles:20260419T214318
DTEND;TZID=America/Los_Angeles:20260419T214318
SUMMARY:Pasko ng Kasambahay
LOCATION:
DESCRIPTION:
URL:https://barangaybelair.ph/event/pasko-ng-kasambahay/
END:VEVENT
END:VCALENDAR
